BEGIN:VCALENDAR
VERSION:2.0
PRODID:-//ChamberMaster//Event Calendar 2.0//EN
METHOD:PUBLISH
X-PUBLISHED-TTL:P3D
REFRESH-INTERVAL:P3D
CALSCALE:GREGORIAN
BEGIN:VEVENT
DTSTART:20190313T000000Z
DTEND:20190313T003000Z
X-MICROSOFT-CDO-ALLDAYEVENT:FALSE
SUMMARY:Elementary Choral Concert
DESCRIPTION:Choral students from the four MPCSD elementary schools will be featured.
X-ALT-DESC;FMTTYPE=text/html:Choral students from the four MPCSD elementary schools will be featured.
LOCATION:Mount Pleasant Community High School
UID:e.1633.4772
SEQUENCE:3
DTSTAMP:20260421T132908Z
URL:http://mountpleasantiowa.chambermaster.com/events/details/elementary-choral-concert-4772
END:VEVENT

END:VCALENDAR
