BEGIN:VCALENDAR
VERSION:2.0
PRODID:-//ChamberMaster//Event Calendar 2.0//EN
METHOD:PUBLISH
X-PUBLISHED-TTL:P3D
REFRESH-INTERVAL:P3D
CALSCALE:GREGORIAN
BEGIN:VEVENT
DTSTART:20190104T133000Z
DTEND:20190105T023000Z
X-MICROSOFT-CDO-ALLDAYEVENT:FALSE
SUMMARY:Legislative Breakfast
DESCRIPTION:The Mount Pleasant Area Chamber Alliance will unveil the 2019 legislative agenda to Senator Rich Taylor and State Rep. Joe Mitchell.
X-ALT-DESC;FMTTYPE=text/html:The Mount Pleasant Area Chamber Alliance will unveil the 2019 legislative agenda to Senator Rich Taylor and State Rep. Joe Mitchell.
LOCATION:Access Energy
UID:e.1633.4743
SEQUENCE:3
DTSTAMP:20260424T025500Z
URL:http://mountpleasantiowa.chambermaster.com/events/details/legislative-breakfast-01-04-2019-4743
END:VEVENT

END:VCALENDAR
