BEGIN:VCALENDAR
VERSION:2.0
PRODID:-//ChamberMaster//Event Calendar 2.0//EN
METHOD:PUBLISH
X-PUBLISHED-TTL:P3D
REFRESH-INTERVAL:P3D
CALSCALE:GREGORIAN
BEGIN:VEVENT
DTSTART;VALUE=DATE:20190719
DTEND;VALUE=DATE:20190720
TRANSP:TRANSPARENT
X-MICROSOFT-CDO-ALLDAYEVENT:TRUE
SUMMARY:SCC Alumni Golf Outing
DESCRIPTION:SCC Alumni Association Golf Outing On July 19\, Southeastern Community College Alumni Association 24th Annual Golf Outing begins with a great box lunch at 11 am followed by a 4-person best shot starting at 12:30 pm at Sheaffer Memorial Golf Course. Individual golfer is $90 per person\, $600 sponsored team. Other sponsorships are available. Contact Val Giannettino for more information\, 319.208.5065 or vgiannettino@scciowa.edu.
X-ALT-DESC;FMTTYPE=text/html:SCC Alumni Association Golf Outing On July 19\, Southeastern Community College Alumni Association 24th Annual Golf Outing begins with a great box lunch at 11 am followed by a 4-person best shot starting at 12:30 pm at Sheaffer Memorial Golf Course. Individual golfer is $90 per person\, $600 sponsored team. Other sponsorships are available. Contact Val Giannettino for more information\, 319.208.5065 or vgiannettino@scciowa.edu.
LOCATION:Sheaffer Memorial Golf Course\, 12:30 Shotgun Start
UID:e.1633.4818
SEQUENCE:3
DTSTAMP:20260421T040321Z
URL:http://mountpleasantiowa.chambermaster.com/events/details/scc-alumni-golf-outing-4818
END:VEVENT

END:VCALENDAR
